BEGIN:VCALENDAR
VERSION:2.0
PRODID:-//ChamberMaster//Event Calendar 2.0//EN
METHOD:PUBLISH
X-PUBLISHED-TTL:P3D
REFRESH-INTERVAL:P3D
CALSCALE:GREGORIAN
BEGIN:VEVENT
DTSTART:20260701T160000Z
DTEND:20260701T173000Z
X-MICROSOFT-CDO-ALLDAYEVENT:FALSE
SUMMARY:Agribusiness Council Meeting
DESCRIPTION:The Wilson AgriBusiness Committee meeting is held the first Wednesday of each month (January through October) at Parker's Barbecue during lunch. The AgriBusiness Committee provides informative programs related to agriculture and Wilson. The meetings are open to all who are interested.
X-ALT-DESC;FMTTYPE=text/html:<span style="caret-color: rgb(0\, 0\, 0)\; color: rgb(0\, 0\, 0)\; font-family: Arial\, sans-serif\; font-size: 14px\; text-align: justify\; text-size-adjust: auto\;">The Wilson AgriBusiness Committee meeting is held the first Wednesday of each month (January through October) at Parker&#39\;s Barbecue during lunch. The AgriBusiness Committee provides informative programs related to agriculture and Wilson. The meetings are open to all who are interested.</span>
LOCATION:Parker's BBQ 2514 US-301\, Wilson\, NC 27893
UID:e.2074.1892
SEQUENCE:3
DTSTAMP:20260419T213328Z
URL:http://business.wilsonncchamber.com/events/details/agribusiness-council-meeting-07-01-2026-1892
END:VEVENT

END:VCALENDAR
