BEGIN:VCALENDAR
VERSION:2.0
PRODID:-//ChamberMaster//Event Calendar 2.0//EN
METHOD:PUBLISH
X-PUBLISHED-TTL:P3D
REFRESH-INTERVAL:P3D
CALSCALE:GREGORIAN
BEGIN:VEVENT
DTSTART:20220725T160000Z
DTEND:20220725T170000Z
X-MICROSOFT-CDO-ALLDAYEVENT:FALSE
SUMMARY:Lunch and Learn @ The Gig East
DESCRIPTION:Join RIoT each month at the Gig East Exchange for our Lunch and Learn series.  Each month you'll have the opportunity to network over lunch and learn from a different company at the edge of business and technology.\n\n\n\nIn November\, You think you have a viable IoT product or service and are ready to engage investors to commercialize the next best thing! But do you really understand your Value Proposition\, MVP\, Key Partners\, Activities and Resources? Investors are going to ask you. Are you ready to answer?\n\n\n\nDevice Solutions will share their approach to internal innovation as they leveraged outside resources to bolster their expertise and experimented with an entirely new technology offering beyond their core business. They have a unique perspective - not only did they participate in the RIoT RAP V Cohort\, but they completed a DHS NSF I-Corp Cohort that led to a DHS Contract.\n\n\n\nJoin this in-person Lunch & Learn session to learn how they vetted the new concept through rigorous customer discovery and hear about their accomplishments (and pivots) along the way.\n\n\n\nLunch will be provided.
X-ALT-DESC;FMTTYPE=text/html:<p><span style="font-size:14px">Join RIoT each month at the Gig East Exchange for our Lunch and Learn series.&nbsp\; Each month you&#39\;ll have the opportunity to network over lunch and learn from a different company at the edge of business and technology.<br />\n<br />\nIn November\,&nbsp\;<span style="color:rgb(33\, 33\, 33)\; font-family:graphik meetup\,-apple-system\,blinkmacsystemfont\,roboto\,helvetica\,arial\,sans-serif">You think you have a viable IoT product or service and are ready to engage investors to commercialize the next best thing! But do you really understand your Value Proposition\, MVP\, Key Partners\, Activities and Resources? Investors are going to ask you. Are you ready to answer?</span><br />\n<br />\n<span style="color:rgb(33\, 33\, 33)\; font-family:graphik meetup\,-apple-system\,blinkmacsystemfont\,roboto\,helvetica\,arial\,sans-serif">Device Solutions will share their approach to internal innovation as they leveraged outside resources to bolster their expertise and experimented with an entirely new technology offering beyond their core business. They have a unique perspective - not only did they participate in the RIoT RAP V Cohort\, but they completed a DHS NSF I-Corp Cohort that led to a DHS Contract.</span><br />\n<br />\n<span style="color:rgb(33\, 33\, 33)\; font-family:graphik meetup\,-apple-system\,blinkmacsystemfont\,roboto\,helvetica\,arial\,sans-serif">Join this in-person Lunch &amp\; Learn session to learn how they vetted the new concept through rigorous customer discovery and hear about their accomplishments (and pivots) along the way.</span><br />\n<br />\n<span style="color:rgb(33\, 33\, 33)\; font-family:graphik meetup\,-apple-system\,blinkmacsystemfont\,roboto\,helvetica\,arial\,sans-serif">Lunch will be provided.&nbsp\;</span></span></p>\n
LOCATION:Gig East Exchange 127 Goldsboro Street South Wilson\, NC 27893
UID:e.2074.18168
SEQUENCE:3
DTSTAMP:20260424T080653Z
URL:http://business.wilsonncchamber.com/events/details/lunch-and-learn-the-gig-east-07-25-2022-18168
END:VEVENT

END:VCALENDAR
