BEGIN:VCALENDAR
VERSION:2.0
PRODID:-//ChamberMaster//Event Calendar 2.0//EN
METHOD:PUBLISH
X-PUBLISHED-TTL:P3D
REFRESH-INTERVAL:P3D
CALSCALE:GREGORIAN
BEGIN:VEVENT
DTSTART:20260731T120000Z
DTEND:20260803T000000Z
X-MICROSOFT-CDO-ALLDAYEVENT:FALSE
SUMMARY:5th Annual Wizarding Weekend\, Sponsored by Casita Brewing Company!
DESCRIPTION:5th Annual Wizarding Weekend\, Sponsored by Casita Brewing Company! See social media for all of the amazing businesses participating!
X-ALT-DESC;FMTTYPE=text/html:5th Annual Wizarding Weekend\, Sponsored by Casita Brewing Company! See social media for all of the amazing businesses participating!&nbsp\;
LOCATION:Casita Brewing Company and surrounding businesses in Historic Downtown Wilson
UID:e.2074.20358
SEQUENCE:3
DTSTAMP:20260421T140330Z
URL:https://business.wilsonncchamber.com/events/details/5th-annual-wizarding-weekend-sponsored-by-casita-brewing-company-20358
END:VEVENT

END:VCALENDAR
