BEGIN:VCALENDAR
VERSION:2.0
PRODID:-//ChamberMaster//Event Calendar 2.0//EN
METHOD:PUBLISH
X-PUBLISHED-TTL:P3D
REFRESH-INTERVAL:P3D
CALSCALE:GREGORIAN
BEGIN:VEVENT
DTSTART:20260113T200000Z
DTEND:20260113T210000Z
X-MICROSOFT-CDO-ALLDAYEVENT:FALSE
SUMMARY:Building Spanish language skills for your business
DESCRIPTION:Presenting a number of community resources that help business leaders acquire Spanish language skills that will help them connect and communicate with potential customers\, clients\, and employees.  This information session will include a presentation from Dr. Natanael Valenzuela of the InterAmerican Language Academy.
X-ALT-DESC;FMTTYPE=text/html:Presenting a number of community resources that help business leaders acquire Spanish language skills that will help them connect and communicate with potential customers\, clients\, and employees.&nbsp\; This information session will include a presentation from Dr. Natanael Valenzuela of the InterAmerican Language Academy.
LOCATION:Wilson Chamber of Commerce 200 Nash St NE Wilson NC 27893
UID:e.2074.20018
SEQUENCE:3
DTSTAMP:20260419T170331Z
URL:https://business.wilsonncchamber.com/events/details/building-spanish-language-skills-for-your-business-20018
END:VEVENT

END:VCALENDAR
