BEGIN:VCALENDAR
VERSION:2.0
PRODID:-//ChamberMaster//Event Calendar 2.0//EN
METHOD:PUBLISH
X-PUBLISHED-TTL:P3D
REFRESH-INTERVAL:P3D
CALSCALE:GREGORIAN
BEGIN:VEVENT
DTSTART:20230210T170000Z
DTEND:20230210T180000Z
X-MICROSOFT-CDO-ALLDAYEVENT:FALSE
SUMMARY:Creating Engaging Videos to Hook Your Small Business Customers - Online
DESCRIPTION:Video has become more important than ever before in speaking to today's consumers. In this webinar\, we'll learn the how\, when\, and where to use video in order to captivate your followers as well as specifics about platforms for video to promote your business and business events on social media.\n\n\n\nSpeaker: Katria Farmer\n\n\n\nRegister by: 10:00 AM February 10\n\n\n\nTo register\, visit https://www.ncsbc.net/workshop.aspx?ekey=580430012.
X-ALT-DESC;FMTTYPE=text/html:<span style="color:#1C2B33"><span style="font-size:12.0pt">Video has become more important than ever before in speaking to today&rsquo\;s consumers. In this webinar\, we&rsquo\;ll learn the how\, when\, and where to use video in order to captivate your followers as well as specifics about platforms for video to promote your business and business events on social media.</span></span><br />\n<br />\n<span style="color:#1C2B33"><span style="font-size:12.0pt">Speaker: Katria Farmer</span></span><br />\n<br />\n<span style="color:#1C2B33"><span style="font-size:12.0pt">Register by: 10:00 AM February 10</span></span><br />\n<br />\n<span style="color:#1C2B33"><span style="font-size:12.0pt">To register\, visit <a href="https://www.ncsbc.net/workshop.aspx?ekey=580430012">https://www.ncsbc.net/workshop.aspx?ekey=580430012</a></span></span><span style="font-size:12.0pt">.</span>
LOCATION:Online Only | Registrants will receive a confirmation email containing instructions for joining the Zoom webinar.
UID:e.2074.18448
SEQUENCE:3
DTSTAMP:20260421T103748Z
URL:https://business.wilsonncchamber.com/events/details/creating-engaging-videos-to-hook-your-small-business-customers-online-18448
END:VEVENT

END:VCALENDAR
