BEGIN:VCALENDAR
VERSION:2.0
PRODID:-//ChamberMaster//Event Calendar 2.0//EN
METHOD:PUBLISH
X-PUBLISHED-TTL:P3D
REFRESH-INTERVAL:P3D
CALSCALE:GREGORIAN
BEGIN:VEVENT
DTSTART:20230516T130000Z
DTEND:20230516T150000Z
X-MICROSOFT-CDO-ALLDAYEVENT:FALSE
SUMMARY:How to Start a Business – Online
DESCRIPTION:Understand the basics of starting a for-profit business in this webinar that takes you from idea to opportunity. Learn key strategies for start-up\, financing\, and marketing\, as well as important information about legal issues\, licensing\, zoning\, operations\, and more. Realize the importance of a self-assessment and how to evaluate the feasibility of your business idea. Discover the resources available to help you start and successfully operate your business.\n\n\n\nSpeaker: Melissa Evans\, SBC Director\n\n\n\nRegister by: 7:00 AM May 16\n\n\n\nTo register\, visit https://www.ncsbc.net/workshop.aspx?ekey=580430041.
X-ALT-DESC;FMTTYPE=text/html:<span style="color:#1C2B33"><span style="font-size:12.0pt">Understand the basics of starting a for-profit business in this webinar that takes you from idea to opportunity. Learn key strategies for start-up\, financing\, and marketing\, as well as important information about legal issues\, licensing\, zoning\, operations\, and more. Realize the importance of a self-assessment and how to evaluate the feasibility of your business idea. Discover the resources available to help you start and successfully operate your business.</span></span><br />\n<br />\n<span style="color:#1C2B33"><span style="font-size:12.0pt">Speaker: Melissa Evans\, SBC Director</span></span><br />\n<br />\n<span style="color:#1C2B33"><span style="font-size:12.0pt">Register by: 7:00 AM May 16</span></span><br />\n<br />\n<span style="color:#1C2B33"><span style="font-size:12.0pt">To register\, visit <a href="https://www.ncsbc.net/workshop.aspx?ekey=580430041">https://www.ncsbc.net/workshop.aspx?ekey=580430041</a></span></span><span style="font-size:12.0pt">. </span>
LOCATION:Online Only | Registrants will receive a confirmation email containing instructions for joining the Zoom webinar.
UID:e.2074.18570
SEQUENCE:3
DTSTAMP:20260419T214542Z
URL:https://business.wilsonncchamber.com/events/details/how-to-start-a-business-online-05-16-2023-18570
END:VEVENT

END:VCALENDAR
