BEGIN:VCALENDAR
VERSION:2.0
PRODID:-//ChamberMaster//Event Calendar 2.0//EN
METHOD:PUBLISH
X-PUBLISHED-TTL:P3D
REFRESH-INTERVAL:P3D
CALSCALE:GREGORIAN
BEGIN:VEVENT
DTSTART:20260508T230000Z
DTEND:20260509T010000Z
X-MICROSOFT-CDO-ALLDAYEVENT:FALSE
SUMMARY:Live Music at Casita Brewery! The Street Revival Band
DESCRIPTION:Join us for The Street Revival Band at Casita Brewery! Live music!
X-ALT-DESC;FMTTYPE=text/html:Join us for The<span style="color:rgb(34\, 34\, 34)\; font-family:arial\,helvetica\,sans-serif\; font-size:small">&nbsp\;Street Revival Band at Casita Brewery! Live music!</span>
LOCATION:Casita Brewery\, 217 South St S\, Wilson\, NC 27893
UID:e.2074.20352
SEQUENCE:3
DTSTAMP:20260420T211128Z
URL:https://business.wilsonncchamber.com/events/details/live-music-at-casita-brewery-the-street-revival-band-20352
END:VEVENT

END:VCALENDAR
