BEGIN:VCALENDAR
VERSION:2.0
PRODID:-//ChamberMaster//Event Calendar 2.0//EN
METHOD:PUBLISH
X-PUBLISHED-TTL:P3D
REFRESH-INTERVAL:P3D
CALSCALE:GREGORIAN
BEGIN:VEVENT
DTSTART:20260503T200000Z
DTEND:20260503T210000Z
X-MICROSOFT-CDO-ALLDAYEVENT:FALSE
SUMMARY:Local Food Collaborative at Casita Brewery
DESCRIPTION:The Wilson Local Food Collaborative is a once-a-month gathering that connects our community directly to the farmers\, bakers\, and food makers who grow and craft real food right here at home. Modeled after the Wake Forest Local Food Collaborative\, this event creates a simple\, consistent space to pick up fresh\, seasonal foods\, support small local producers\, and build relationships around the table. Join us on the 1st Sunday of every month from 4 5pm at Casita Brewing Company (217 S Street\, Wilson) to shop local\, meet your farmers\, and be part of a growing movement to strengthen our local food system   one month at a time.\n\n\n\nYou can get on the email list to receive a email the Wednesday before each drop by going to: https://witty-bonus-48822.myflodesk.com/wilson?fbclid=IwY2xjawRS_15leHRuA2FlbQIxMQBzcnRjBmFwcF9pZBAyMjIwMzkxNzg4MjAwODkyAAEert5YCkUHUdyWjYZV1dav6XFrktSZsCT_nQmmy8g2uFGz1K2FhwMoa3DhKuQ_aem_N6WIolmbhClG4Qg_rBz8gQ
X-ALT-DESC;FMTTYPE=text/html:<div>\n<div>The Wilson Local Food Collaborative is a once-a-month gathering that connects our community directly to the farmers\, bakers\, and food makers who grow and craft real food right here at home. Modeled after the Wake Forest Local Food Collaborative\, this event creates a simple\, consistent space to pick up fresh\, seasonal foods\, support small local producers\, and build relationships around the table. Join us on the 1st Sunday of every month from 4&ndash\;5pm at Casita Brewing Company (217 S Street\, Wilson) to shop local\, meet your farmers\, and be part of a growing movement to strengthen our local food system &mdash\; one month at a time.</div>\n</div>\n\n<div>\n<div>You can get on the email list to receive a email the Wednesday before each drop by going to:&nbsp\;https://witty-bonus-48822.myflodesk.com/wilson?fbclid=IwY2xjawRS_15leHRuA2FlbQIxMQBzcnRjBmFwcF9pZBAyMjIwMzkxNzg4MjAwODkyAAEert5YCkUHUdyWjYZV1dav6XFrktSZsCT_nQmmy8g2uFGz1K2FhwMoa3DhKuQ_aem_N6WIolmbhClG4Qg_rBz8gQ</div>\n</div>\n
LOCATION:Casita Brewing Company (217 S Street\, Wilson)
UID:e.2074.20348
SEQUENCE:3
DTSTAMP:20260420T213107Z
URL:https://business.wilsonncchamber.com/events/details/local-food-collaborative-at-casita-brewery-20348
END:VEVENT

END:VCALENDAR
