BEGIN:VCALENDAR
VERSION:2.0
PRODID:-//ChamberMaster//Event Calendar 2.0//EN
METHOD:PUBLISH
X-PUBLISHED-TTL:P3D
REFRESH-INTERVAL:P3D
CALSCALE:GREGORIAN
BEGIN:VEVENT
DTSTART:20260620T230000Z
DTEND:20260621T020000Z
X-MICROSOFT-CDO-ALLDAYEVENT:FALSE
SUMMARY:Matty Begs Live Music at Casita!
DESCRIPTION:Join Matty Begs for Live Music at Casita Brewery!
X-ALT-DESC;FMTTYPE=text/html:Join Matty Begs for Live Music at Casita Brewery!
LOCATION:Casita Brewery 217 South St S\, Wilson\, NC 27893
UID:e.2074.20356
SEQUENCE:3
DTSTAMP:20260421T122106Z
URL:https://business.wilsonncchamber.com/events/details/matty-begs-live-music-at-casita-20356
END:VEVENT

END:VCALENDAR
