BEGIN:VCALENDAR
VERSION:2.0
PRODID:-//ChamberMaster//Event Calendar 2.0//EN
METHOD:PUBLISH
X-PUBLISHED-TTL:P3D
REFRESH-INTERVAL:P3D
CALSCALE:GREGORIAN
BEGIN:VEVENT
DTSTART:20261003T160000Z
DTEND:20261003T200000Z
X-MICROSOFT-CDO-ALLDAYEVENT:FALSE
SUMMARY:Oktoberfest 2026\, Sponsored by Casita Brewing Company!
DESCRIPTION:Oktoberfest 2026\, Sponsored by Casita Brewing Company!
X-ALT-DESC;FMTTYPE=text/html:Oktoberfest 2026\, Sponsored by Casita Brewing Company!
LOCATION:Casita Brewing Company\, 217 South St S\, Wilson\, NC 27893
UID:e.2074.20357
SEQUENCE:3
DTSTAMP:20260424T202140Z
URL:https://business.wilsonncchamber.com/events/details/oktoberfest-2026-sponsored-by-casita-brewing-company-20357
END:VEVENT

END:VCALENDAR
