BEGIN:VCALENDAR
VERSION:2.0
PRODID:-//ChamberMaster//Event Calendar 2.0//EN
METHOD:PUBLISH
X-PUBLISHED-TTL:P3D
REFRESH-INTERVAL:P3D
CALSCALE:GREGORIAN
BEGIN:VEVENT
DTSTART:20250115T170000Z
DTEND:20250115T180000Z
X-MICROSOFT-CDO-ALLDAYEVENT:FALSE
SUMMARY:Requirements for Property Tax Registration of Your Small Biz Assets - Online
DESCRIPTION:Did you know that state law requires individuals or businesses owning or possessing personal property used or connected with a business to list their property with the local tax office on a yearly basis? The Wilson County Tax Department personnel want to help answer who must file a listing\, what assets you need to list\, when and where you need to list\, and how to list properly. This seminar will provide you with detailed information on the entire listing process for Wilson County before the January 31 deadline.\n\n \n\nSpeaker: Christine Keller\, Wilson County Tax Department\n\nRegister by: 10:00 AM January 15\n\nTo register\, visit https://www.ncsbc.net/reg.aspx?mode=event&event=580450002.
X-ALT-DESC;FMTTYPE=text/html:<span style="font-family:calibri\,sans-serif">Did you know that state law requires individuals or businesses owning or possessing personal property used or connected with a business to list their property with the local tax office on a yearly basis? The Wilson County Tax Department personnel want to help answer who must file a listing\, what assets you need to list\, when and where you need to list\, and how to list properly. This seminar will provide you with detailed information on the entire listing process for Wilson County before the January 31 deadline.</span><br />\n&nbsp\;<br />\n<span style="font-family:calibri\,sans-serif">Speaker: Christine Keller\, Wilson County Tax Department</span><br />\n<span style="font-family:calibri\,sans-serif">Register by: 10:00 AM January 15</span><br />\n<span style="font-family:calibri\,sans-serif">To register\, visit <a href="https://www.ncsbc.net/reg.aspx?mode=event&amp\;event=580450002">https://www.ncsbc.net/reg.aspx?mode=event&amp\;event=580450002</a>.</span>
LOCATION:Online Only | Registrants will receive a confirmation email containing instructions for joining the Zoom webinar.
UID:e.2074.19698
SEQUENCE:3
DTSTAMP:20260422T133125Z
URL:https://business.wilsonncchamber.com/events/details/requirements-for-property-tax-registration-of-your-small-biz-assets-online-19698
END:VEVENT

END:VCALENDAR
