BEGIN:VCALENDAR
VERSION:2.0
PRODID:-//ChamberMaster//Event Calendar 2.0//EN
METHOD:PUBLISH
X-PUBLISHED-TTL:P3D
REFRESH-INTERVAL:P3D
CALSCALE:GREGORIAN
BEGIN:VEVENT
DTSTART:20261220T000000Z
DTEND:20261220T030000Z
X-MICROSOFT-CDO-ALLDAYEVENT:FALSE
SUMMARY:Russ Varnell & His Too Country Band for a Christmas Bash at Casita Brewery!
DESCRIPTION:Join us Dec 19 for Russ Varnell & His Too Country Band for a Christmas Bash!
X-ALT-DESC;FMTTYPE=text/html:Join us&nbsp\;<span style="color:rgb(34\, 34\, 34)\; font-family:arial\,helvetica\,sans-serif\; font-size:small">Dec 19 for Russ Varnell &amp\; His Too Country Band for a Christmas Bash!</span>
LOCATION:Casita Brewery\, 217 South St S\, Wilson\, NC 27893
UID:e.2074.20355
SEQUENCE:3
DTSTAMP:20260424T225737Z
URL:https://business.wilsonncchamber.com/events/details/russ-varnell-his-too-country-band-for-a-christmas-bash-at-casita-brewery-20355
END:VEVENT

END:VCALENDAR
