BEGIN:VCALENDAR
VERSION:2.0
PRODID:-//ChamberMaster//Event Calendar 2.0//EN
METHOD:PUBLISH
X-PUBLISHED-TTL:P3D
REFRESH-INTERVAL:P3D
CALSCALE:GREGORIAN
BEGIN:VEVENT
DTSTART:20260325T190000Z
DTEND:20260325T210000Z
X-MICROSOFT-CDO-ALLDAYEVENT:FALSE
SUMMARY:Spanish Individual Income Tax Basics – Online (Fundamentos del Impuesto sobre la Renta de las Personas Físicas en España)
DESCRIPTION:Este seminario web ayuda a las personas que viven o trabajan en Carolina del Norte a comprender la legislaci n b sica sobre el impuesto sobre la renta individual y la declaraci n de impuestos sobre la renta individual de Carolina del Norte.\n\n \n\nOrador(es): NCDOR\n\nPara registrarse\, visite https://www.ncsbc.net/reg.aspx?mode=event&event=590460032.\n\n \n\n\n\nThis webinar helps individuals who live or work in North Carolina understand basic individual income tax law and the North Carolina Individual Income tax return.\n\n \n\nSpeaker(s): NCDOR\n\nTo register\, visit https://www.ncsbc.net/reg.aspx?mode=event&event=590460032.
X-ALT-DESC;FMTTYPE=text/html:Este seminario web ayuda a las personas que viven o trabajan en Carolina del Norte a comprender la legislaci&oacute\;n b&aacute\;sica sobre el impuesto sobre la renta individual y la declaraci&oacute\;n de impuestos sobre la renta individual de Carolina del Norte.<br />\n&nbsp\;<br />\nOrador(es): NCDOR<br />\nPara registrarse\, visite <a href="https://www.ncsbc.net/reg.aspx?mode=event&amp\;event=590460032">https://www.ncsbc.net/reg.aspx?mode=event&amp\;event=590460032</a>.<br />\n&nbsp\;<br />\n<br />\nThis webinar helps individuals who live or work in North Carolina understand basic individual income tax law and the North Carolina Individual Income tax return.<br />\n&nbsp\;<br />\nSpeaker(s): NCDOR<br />\nTo register\, visit <a href="https://www.ncsbc.net/reg.aspx?mode=event&amp\;event=590460032">https://www.ncsbc.net/reg.aspx?mode=event&amp\;event=590460032</a>.
LOCATION:Online Only | Registrants will receive a confirmation email containing instructions for joining the Zoom webinar.
UID:e.2074.20059
SEQUENCE:3
DTSTAMP:20260421T104813Z
URL:https://business.wilsonncchamber.com/events/details/spanish-individual-income-tax-basics-online-fundamentos-del-impuesto-sobre-la-renta-de-las-personas-f&#237;sicas-en-espa&#241;a-20059
END:VEVENT

END:VCALENDAR
