BEGIN:VCALENDAR
VERSION:2.0
PRODID:-//ChamberMaster//Event Calendar 2.0//EN
METHOD:PUBLISH
X-PUBLISHED-TTL:P3D
REFRESH-INTERVAL:P3D
CALSCALE:GREGORIAN
BEGIN:VEVENT
DTSTART:20260606T230000Z
DTEND:20260607T010000Z
X-MICROSOFT-CDO-ALLDAYEVENT:FALSE
SUMMARY:Street Revival Band at Casita!
DESCRIPTION:Join Street Revival Band at Casita for live music!
X-ALT-DESC;FMTTYPE=text/html:Join&nbsp\;<span style="color:rgb(34\, 34\, 34)\; font-family:arial\,helvetica\,sans-serif\; font-size:small">Street Revival Band at Casita for live music!</span>
LOCATION:217 South St S\, Wilson\, NC 27893
UID:e.2074.20354
SEQUENCE:3
DTSTAMP:20260421T122137Z
URL:https://business.wilsonncchamber.com/events/details/street-revival-band-at-casita-20354
END:VEVENT

END:VCALENDAR
